BEGIN:VCALENDAR
VERSION:2.0
PRODID:-//8th Force Support Squadron - Kunsan Air Force Base - ECPv6.15.20//NONSGML v1.0//EN
CALSCALE:GREGORIAN
METHOD:PUBLISH
X-WR-CALNAME:8th Force Support Squadron - Kunsan Air Force Base
X-ORIGINAL-URL:https://kunsanfss.com
X-WR-CALDESC:Events for 8th Force Support Squadron - Kunsan Air Force Base
REFRESH-INTERVAL;VALUE=DURATION:PT1H
X-Robots-Tag:noindex
X-PUBLISHED-TTL:PT1H
BEGIN:VTIMEZONE
TZID:UTC
BEGIN:STANDARD
TZOFFSETFROM:+0000
TZOFFSETTO:+0000
TZNAME:UTC
DTSTART:20250101T000000
END:STANDARD
END:VTIMEZONE
BEGIN:VEVENT
DTSTART;TZID=UTC:20260426T120000
DTEND;TZID=UTC:20260426T230000
DTSTAMP:20260424T212519
CREATED:20260119T020011Z
LAST-MODIFIED:20260119T020011Z
UID:10017566-1777204800-1777244400@kunsanfss.com
SUMMARY:Bowling Revolution
DESCRIPTION:$24.99
URL:https://kunsanfss.com/event/bowling-revolution/2026-04-26/
CATEGORIES:Bowling Center,Fun
ATTACH;FMTTYPE=image/jpeg:https://kunsanfss.com/wp-content/uploads/2026/01/0000-bowling-revolution-TV.jpg
END:VEVENT
BEGIN:VEVENT
DTSTART;TZID=UTC:20260503T120000
DTEND;TZID=UTC:20260503T230000
DTSTAMP:20260424T212519
CREATED:20260119T020011Z
LAST-MODIFIED:20260119T020011Z
UID:10017567-1777809600-1777849200@kunsanfss.com
SUMMARY:Bowling Revolution
DESCRIPTION:$24.99
URL:https://kunsanfss.com/event/bowling-revolution/2026-05-03/
CATEGORIES:Bowling Center,Fun
ATTACH;FMTTYPE=image/jpeg:https://kunsanfss.com/wp-content/uploads/2026/01/0000-bowling-revolution-TV.jpg
END:VEVENT
BEGIN:VEVENT
DTSTART;TZID=UTC:20260510T120000
DTEND;TZID=UTC:20260510T230000
DTSTAMP:20260424T212519
CREATED:20260119T020011Z
LAST-MODIFIED:20260119T020011Z
UID:10017568-1778414400-1778454000@kunsanfss.com
SUMMARY:Bowling Revolution
DESCRIPTION:$24.99
URL:https://kunsanfss.com/event/bowling-revolution/2026-05-10/
CATEGORIES:Bowling Center,Fun
ATTACH;FMTTYPE=image/jpeg:https://kunsanfss.com/wp-content/uploads/2026/01/0000-bowling-revolution-TV.jpg
END:VEVENT
BEGIN:VEVENT
DTSTART;TZID=UTC:20260517T120000
DTEND;TZID=UTC:20260517T230000
DTSTAMP:20260424T212519
CREATED:20260119T020011Z
LAST-MODIFIED:20260119T020011Z
UID:10017569-1779019200-1779058800@kunsanfss.com
SUMMARY:Bowling Revolution
DESCRIPTION:$24.99
URL:https://kunsanfss.com/event/bowling-revolution/2026-05-17/
CATEGORIES:Bowling Center,Fun
ATTACH;FMTTYPE=image/jpeg:https://kunsanfss.com/wp-content/uploads/2026/01/0000-bowling-revolution-TV.jpg
END:VEVENT
BEGIN:VEVENT
DTSTART;TZID=UTC:20260524T120000
DTEND;TZID=UTC:20260524T230000
DTSTAMP:20260424T212519
CREATED:20260119T020011Z
LAST-MODIFIED:20260119T020011Z
UID:10017570-1779624000-1779663600@kunsanfss.com
SUMMARY:Bowling Revolution
DESCRIPTION:$24.99
URL:https://kunsanfss.com/event/bowling-revolution/2026-05-24/
CATEGORIES:Bowling Center,Fun
ATTACH;FMTTYPE=image/jpeg:https://kunsanfss.com/wp-content/uploads/2026/01/0000-bowling-revolution-TV.jpg
END:VEVENT
BEGIN:VEVENT
DTSTART;TZID=UTC:20260531T120000
DTEND;TZID=UTC:20260531T230000
DTSTAMP:20260424T212519
CREATED:20260119T020011Z
LAST-MODIFIED:20260119T020011Z
UID:10017571-1780228800-1780268400@kunsanfss.com
SUMMARY:Bowling Revolution
DESCRIPTION:$24.99
URL:https://kunsanfss.com/event/bowling-revolution/2026-05-31/
CATEGORIES:Bowling Center,Fun
ATTACH;FMTTYPE=image/jpeg:https://kunsanfss.com/wp-content/uploads/2026/01/0000-bowling-revolution-TV.jpg
END:VEVENT
BEGIN:VEVENT
DTSTART;TZID=UTC:20260607T120000
DTEND;TZID=UTC:20260607T230000
DTSTAMP:20260424T212519
CREATED:20260119T020011Z
LAST-MODIFIED:20260119T020011Z
UID:10017572-1780833600-1780873200@kunsanfss.com
SUMMARY:Bowling Revolution
DESCRIPTION:$24.99
URL:https://kunsanfss.com/event/bowling-revolution/2026-06-07/
CATEGORIES:Bowling Center,Fun
ATTACH;FMTTYPE=image/jpeg:https://kunsanfss.com/wp-content/uploads/2026/01/0000-bowling-revolution-TV.jpg
END:VEVENT
BEGIN:VEVENT
DTSTART;TZID=UTC:20260614T120000
DTEND;TZID=UTC:20260614T230000
DTSTAMP:20260424T212519
CREATED:20260119T020011Z
LAST-MODIFIED:20260119T020011Z
UID:10017573-1781438400-1781478000@kunsanfss.com
SUMMARY:Bowling Revolution
DESCRIPTION:$24.99
URL:https://kunsanfss.com/event/bowling-revolution/2026-06-14/
CATEGORIES:Bowling Center,Fun
ATTACH;FMTTYPE=image/jpeg:https://kunsanfss.com/wp-content/uploads/2026/01/0000-bowling-revolution-TV.jpg
END:VEVENT
BEGIN:VEVENT
DTSTART;TZID=UTC:20260621T120000
DTEND;TZID=UTC:20260621T230000
DTSTAMP:20260424T212519
CREATED:20260119T020011Z
LAST-MODIFIED:20260119T020011Z
UID:10017574-1782043200-1782082800@kunsanfss.com
SUMMARY:Bowling Revolution
DESCRIPTION:$24.99
URL:https://kunsanfss.com/event/bowling-revolution/2026-06-21/
CATEGORIES:Bowling Center,Fun
ATTACH;FMTTYPE=image/jpeg:https://kunsanfss.com/wp-content/uploads/2026/01/0000-bowling-revolution-TV.jpg
END:VEVENT
BEGIN:VEVENT
DTSTART;TZID=UTC:20260628T120000
DTEND;TZID=UTC:20260628T230000
DTSTAMP:20260424T212519
CREATED:20260119T020011Z
LAST-MODIFIED:20260119T020011Z
UID:10017575-1782648000-1782687600@kunsanfss.com
SUMMARY:Bowling Revolution
DESCRIPTION:$24.99
URL:https://kunsanfss.com/event/bowling-revolution/2026-06-28/
CATEGORIES:Bowling Center,Fun
ATTACH;FMTTYPE=image/jpeg:https://kunsanfss.com/wp-content/uploads/2026/01/0000-bowling-revolution-TV.jpg
END:VEVENT
BEGIN:VEVENT
DTSTART;TZID=UTC:20260705T120000
DTEND;TZID=UTC:20260705T230000
DTSTAMP:20260424T212519
CREATED:20260119T020011Z
LAST-MODIFIED:20260119T020011Z
UID:10017576-1783252800-1783292400@kunsanfss.com
SUMMARY:Bowling Revolution
DESCRIPTION:$24.99
URL:https://kunsanfss.com/event/bowling-revolution/2026-07-05/
CATEGORIES:Bowling Center,Fun
ATTACH;FMTTYPE=image/jpeg:https://kunsanfss.com/wp-content/uploads/2026/01/0000-bowling-revolution-TV.jpg
END:VEVENT
BEGIN:VEVENT
DTSTART;TZID=UTC:20260712T120000
DTEND;TZID=UTC:20260712T230000
DTSTAMP:20260424T212519
CREATED:20260119T020011Z
LAST-MODIFIED:20260119T020011Z
UID:10017577-1783857600-1783897200@kunsanfss.com
SUMMARY:Bowling Revolution
DESCRIPTION:$24.99
URL:https://kunsanfss.com/event/bowling-revolution/2026-07-12/
CATEGORIES:Bowling Center,Fun
ATTACH;FMTTYPE=image/jpeg:https://kunsanfss.com/wp-content/uploads/2026/01/0000-bowling-revolution-TV.jpg
END:VEVENT
BEGIN:VEVENT
DTSTART;TZID=UTC:20260719T120000
DTEND;TZID=UTC:20260719T230000
DTSTAMP:20260424T212519
CREATED:20260119T020011Z
LAST-MODIFIED:20260119T020011Z
UID:10017578-1784462400-1784502000@kunsanfss.com
SUMMARY:Bowling Revolution
DESCRIPTION:$24.99
URL:https://kunsanfss.com/event/bowling-revolution/2026-07-19/
CATEGORIES:Bowling Center,Fun
ATTACH;FMTTYPE=image/jpeg:https://kunsanfss.com/wp-content/uploads/2026/01/0000-bowling-revolution-TV.jpg
END:VEVENT
BEGIN:VEVENT
DTSTART;TZID=UTC:20260726T120000
DTEND;TZID=UTC:20260726T230000
DTSTAMP:20260424T212519
CREATED:20260119T020011Z
LAST-MODIFIED:20260119T020011Z
UID:10017579-1785067200-1785106800@kunsanfss.com
SUMMARY:Bowling Revolution
DESCRIPTION:$24.99
URL:https://kunsanfss.com/event/bowling-revolution/2026-07-26/
CATEGORIES:Bowling Center,Fun
ATTACH;FMTTYPE=image/jpeg:https://kunsanfss.com/wp-content/uploads/2026/01/0000-bowling-revolution-TV.jpg
END:VEVENT
BEGIN:VEVENT
DTSTART;TZID=UTC:20260802T120000
DTEND;TZID=UTC:20260802T230000
DTSTAMP:20260424T212519
CREATED:20260119T020011Z
LAST-MODIFIED:20260119T020011Z
UID:10017580-1785672000-1785711600@kunsanfss.com
SUMMARY:Bowling Revolution
DESCRIPTION:$24.99
URL:https://kunsanfss.com/event/bowling-revolution/2026-08-02/
CATEGORIES:Bowling Center,Fun
ATTACH;FMTTYPE=image/jpeg:https://kunsanfss.com/wp-content/uploads/2026/01/0000-bowling-revolution-TV.jpg
END:VEVENT
BEGIN:VEVENT
DTSTART;TZID=UTC:20260809T120000
DTEND;TZID=UTC:20260809T230000
DTSTAMP:20260424T212519
CREATED:20260119T020011Z
LAST-MODIFIED:20260119T020011Z
UID:10017581-1786276800-1786316400@kunsanfss.com
SUMMARY:Bowling Revolution
DESCRIPTION:$24.99
URL:https://kunsanfss.com/event/bowling-revolution/2026-08-09/
CATEGORIES:Bowling Center,Fun
ATTACH;FMTTYPE=image/jpeg:https://kunsanfss.com/wp-content/uploads/2026/01/0000-bowling-revolution-TV.jpg
END:VEVENT
BEGIN:VEVENT
DTSTART;TZID=UTC:20260816T120000
DTEND;TZID=UTC:20260816T230000
DTSTAMP:20260424T212519
CREATED:20260119T020011Z
LAST-MODIFIED:20260119T020011Z
UID:10017582-1786881600-1786921200@kunsanfss.com
SUMMARY:Bowling Revolution
DESCRIPTION:$24.99
URL:https://kunsanfss.com/event/bowling-revolution/2026-08-16/
CATEGORIES:Bowling Center,Fun
ATTACH;FMTTYPE=image/jpeg:https://kunsanfss.com/wp-content/uploads/2026/01/0000-bowling-revolution-TV.jpg
END:VEVENT
BEGIN:VEVENT
DTSTART;TZID=UTC:20260823T120000
DTEND;TZID=UTC:20260823T230000
DTSTAMP:20260424T212519
CREATED:20260119T020011Z
LAST-MODIFIED:20260119T020011Z
UID:10017583-1787486400-1787526000@kunsanfss.com
SUMMARY:Bowling Revolution
DESCRIPTION:$24.99
URL:https://kunsanfss.com/event/bowling-revolution/2026-08-23/
CATEGORIES:Bowling Center,Fun
ATTACH;FMTTYPE=image/jpeg:https://kunsanfss.com/wp-content/uploads/2026/01/0000-bowling-revolution-TV.jpg
END:VEVENT
BEGIN:VEVENT
DTSTART;TZID=UTC:20260830T120000
DTEND;TZID=UTC:20260830T230000
DTSTAMP:20260424T212519
CREATED:20260119T020011Z
LAST-MODIFIED:20260119T020011Z
UID:10017584-1788091200-1788130800@kunsanfss.com
SUMMARY:Bowling Revolution
DESCRIPTION:$24.99
URL:https://kunsanfss.com/event/bowling-revolution/2026-08-30/
CATEGORIES:Bowling Center,Fun
ATTACH;FMTTYPE=image/jpeg:https://kunsanfss.com/wp-content/uploads/2026/01/0000-bowling-revolution-TV.jpg
END:VEVENT
BEGIN:VEVENT
DTSTART;TZID=UTC:20260906T120000
DTEND;TZID=UTC:20260906T230000
DTSTAMP:20260424T212519
CREATED:20260119T020011Z
LAST-MODIFIED:20260119T020011Z
UID:10017585-1788696000-1788735600@kunsanfss.com
SUMMARY:Bowling Revolution
DESCRIPTION:$24.99
URL:https://kunsanfss.com/event/bowling-revolution/2026-09-06/
CATEGORIES:Bowling Center,Fun
ATTACH;FMTTYPE=image/jpeg:https://kunsanfss.com/wp-content/uploads/2026/01/0000-bowling-revolution-TV.jpg
END:VEVENT
BEGIN:VEVENT
DTSTART;TZID=UTC:20260913T120000
DTEND;TZID=UTC:20260913T230000
DTSTAMP:20260424T212519
CREATED:20260119T020011Z
LAST-MODIFIED:20260119T020011Z
UID:10017586-1789300800-1789340400@kunsanfss.com
SUMMARY:Bowling Revolution
DESCRIPTION:$24.99
URL:https://kunsanfss.com/event/bowling-revolution/2026-09-13/
CATEGORIES:Bowling Center,Fun
ATTACH;FMTTYPE=image/jpeg:https://kunsanfss.com/wp-content/uploads/2026/01/0000-bowling-revolution-TV.jpg
END:VEVENT
BEGIN:VEVENT
DTSTART;TZID=UTC:20260920T120000
DTEND;TZID=UTC:20260920T230000
DTSTAMP:20260424T212519
CREATED:20260119T020011Z
LAST-MODIFIED:20260119T020011Z
UID:10017587-1789905600-1789945200@kunsanfss.com
SUMMARY:Bowling Revolution
DESCRIPTION:$24.99
URL:https://kunsanfss.com/event/bowling-revolution/2026-09-20/
CATEGORIES:Bowling Center,Fun
ATTACH;FMTTYPE=image/jpeg:https://kunsanfss.com/wp-content/uploads/2026/01/0000-bowling-revolution-TV.jpg
END:VEVENT
BEGIN:VEVENT
DTSTART;TZID=UTC:20260927T120000
DTEND;TZID=UTC:20260927T230000
DTSTAMP:20260424T212519
CREATED:20260119T020011Z
LAST-MODIFIED:20260119T020011Z
UID:10017588-1790510400-1790550000@kunsanfss.com
SUMMARY:Bowling Revolution
DESCRIPTION:$24.99
URL:https://kunsanfss.com/event/bowling-revolution/2026-09-27/
CATEGORIES:Bowling Center,Fun
ATTACH;FMTTYPE=image/jpeg:https://kunsanfss.com/wp-content/uploads/2026/01/0000-bowling-revolution-TV.jpg
END:VEVENT
BEGIN:VEVENT
DTSTART;TZID=UTC:20261004T120000
DTEND;TZID=UTC:20261004T230000
DTSTAMP:20260424T212519
CREATED:20260119T020011Z
LAST-MODIFIED:20260119T020011Z
UID:10017589-1791115200-1791154800@kunsanfss.com
SUMMARY:Bowling Revolution
DESCRIPTION:$24.99
URL:https://kunsanfss.com/event/bowling-revolution/2026-10-04/
CATEGORIES:Bowling Center,Fun
ATTACH;FMTTYPE=image/jpeg:https://kunsanfss.com/wp-content/uploads/2026/01/0000-bowling-revolution-TV.jpg
END:VEVENT
BEGIN:VEVENT
DTSTART;TZID=UTC:20261011T120000
DTEND;TZID=UTC:20261011T230000
DTSTAMP:20260424T212519
CREATED:20260119T020011Z
LAST-MODIFIED:20260119T020011Z
UID:10017590-1791720000-1791759600@kunsanfss.com
SUMMARY:Bowling Revolution
DESCRIPTION:$24.99
URL:https://kunsanfss.com/event/bowling-revolution/2026-10-11/
CATEGORIES:Bowling Center,Fun
ATTACH;FMTTYPE=image/jpeg:https://kunsanfss.com/wp-content/uploads/2026/01/0000-bowling-revolution-TV.jpg
END:VEVENT
BEGIN:VEVENT
DTSTART;TZID=UTC:20261018T120000
DTEND;TZID=UTC:20261018T230000
DTSTAMP:20260424T212519
CREATED:20260119T020011Z
LAST-MODIFIED:20260119T020011Z
UID:10017591-1792324800-1792364400@kunsanfss.com
SUMMARY:Bowling Revolution
DESCRIPTION:$24.99
URL:https://kunsanfss.com/event/bowling-revolution/2026-10-18/
CATEGORIES:Bowling Center,Fun
ATTACH;FMTTYPE=image/jpeg:https://kunsanfss.com/wp-content/uploads/2026/01/0000-bowling-revolution-TV.jpg
END:VEVENT
BEGIN:VEVENT
DTSTART;TZID=UTC:20261025T120000
DTEND;TZID=UTC:20261025T230000
DTSTAMP:20260424T212519
CREATED:20260119T020011Z
LAST-MODIFIED:20260119T020011Z
UID:10017592-1792929600-1792969200@kunsanfss.com
SUMMARY:Bowling Revolution
DESCRIPTION:$24.99
URL:https://kunsanfss.com/event/bowling-revolution/2026-10-25/
CATEGORIES:Bowling Center,Fun
ATTACH;FMTTYPE=image/jpeg:https://kunsanfss.com/wp-content/uploads/2026/01/0000-bowling-revolution-TV.jpg
END:VEVENT
BEGIN:VEVENT
DTSTART;TZID=UTC:20261101T120000
DTEND;TZID=UTC:20261101T230000
DTSTAMP:20260424T212519
CREATED:20260119T020011Z
LAST-MODIFIED:20260119T020011Z
UID:10017593-1793534400-1793574000@kunsanfss.com
SUMMARY:Bowling Revolution
DESCRIPTION:$24.99
URL:https://kunsanfss.com/event/bowling-revolution/2026-11-01/
CATEGORIES:Bowling Center,Fun
ATTACH;FMTTYPE=image/jpeg:https://kunsanfss.com/wp-content/uploads/2026/01/0000-bowling-revolution-TV.jpg
END:VEVENT
BEGIN:VEVENT
DTSTART;TZID=UTC:20261108T120000
DTEND;TZID=UTC:20261108T230000
DTSTAMP:20260424T212519
CREATED:20260119T020011Z
LAST-MODIFIED:20260119T020011Z
UID:10017594-1794139200-1794178800@kunsanfss.com
SUMMARY:Bowling Revolution
DESCRIPTION:$24.99
URL:https://kunsanfss.com/event/bowling-revolution/2026-11-08/
CATEGORIES:Bowling Center,Fun
ATTACH;FMTTYPE=image/jpeg:https://kunsanfss.com/wp-content/uploads/2026/01/0000-bowling-revolution-TV.jpg
END:VEVENT
BEGIN:VEVENT
DTSTART;TZID=UTC:20261115T120000
DTEND;TZID=UTC:20261115T230000
DTSTAMP:20260424T212519
CREATED:20260119T020011Z
LAST-MODIFIED:20260119T020011Z
UID:10017595-1794744000-1794783600@kunsanfss.com
SUMMARY:Bowling Revolution
DESCRIPTION:$24.99
URL:https://kunsanfss.com/event/bowling-revolution/2026-11-15/
CATEGORIES:Bowling Center,Fun
ATTACH;FMTTYPE=image/jpeg:https://kunsanfss.com/wp-content/uploads/2026/01/0000-bowling-revolution-TV.jpg
END:VEVENT
END:VCALENDAR